Package: TFutils Version: 1.29.1 Command: /home/biocbuild/bbs-3.22-bioc/R/bin/R CMD INSTALL TFutils StartedAt: 2025-10-19 15:55:47 -0400 (Sun, 19 Oct 2025) EndedAt: 2025-10-19 15:56:41 -0400 (Sun, 19 Oct 2025) EllapsedTime: 54.4 seconds RetCode: 0 Status: OK