Package: TFutils Version: 1.29.1 Command: /home/biocbuild/bbs-3.22-bioc/R/bin/R CMD check --install=check:TFutils.install-out.txt --library=/home/biocbuild/bbs-3.22-bioc/R/site-library --timings TFutils_1.29.1.tar.gz StartedAt: 2025-10-20 05:40:12 -0400 (Mon, 20 Oct 2025) EndedAt: 2025-10-20 05:48:07 -0400 (Mon, 20 Oct 2025) EllapsedTime: 475.4 seconds RetCode: 0 Status: OK CheckDir: TFutils.Rcheck Warnings: 0