Package: TFutils Version: 1.29.1 Command: /home/biocbuild/bbs-3.22-bioc/R/bin/R CMD build --keep-empty-dirs --no-resave-data --md5 TFutils StartedAt: 2025-10-19 20:28:41 -0400 (Sun, 19 Oct 2025) EndedAt: 2025-10-19 20:30:36 -0400 (Sun, 19 Oct 2025) EllapsedTime: 115.1 seconds RetCode: 0 Status: OK PackageFile: TFutils_1.29.1.tar.gz PackageFileSize: 5.97 MiB