Package: TFutils Version: 1.29.1 Command: /Library/Frameworks/R.framework/Resources/bin/R CMD INSTALL TFutils StartedAt: 2025-10-19 15:49:52 -0400 (Sun, 19 Oct 2025) EndedAt: 2025-10-19 15:51:09 -0400 (Sun, 19 Oct 2025) EllapsedTime: 76.1 seconds RetCode: 0 Status: OK