Package: TFutils Version: 1.29.1 Command: /Library/Frameworks/R.framework/Resources/bin/R CMD check --install=check:TFutils.install-out.txt --library=/Library/Frameworks/R.framework/Resources/library --no-vignettes --timings TFutils_1.29.1.tar.gz StartedAt: 2025-10-20 02:15:33 -0400 (Mon, 20 Oct 2025) EndedAt: 2025-10-20 02:23:12 -0400 (Mon, 20 Oct 2025) EllapsedTime: 459.4 seconds RetCode: 0 Status: OK CheckDir: TFutils.Rcheck Warnings: 0