Package: TFutils Version: 1.29.1 Command: /Library/Frameworks/R.framework/Resources/bin/R CMD build --keep-empty-dirs --no-resave-data TFutils StartedAt: 2025-10-20 19:51:13 -0400 (Mon, 20 Oct 2025) EndedAt: 2025-10-20 19:53:57 -0400 (Mon, 20 Oct 2025) EllapsedTime: 164.9 seconds RetCode: 0 Status: OK PackageFile: TFutils_1.29.1.tar.gz PackageFileSize: 6.013 MiB