Package: TFutils Version: 1.29.1 Command: rm -rf TFutils.buildbin-libdir && mkdir TFutils.buildbin-libdir && /Users/biocbuild/BBS/utils/build-universal.sh TFutils_1.29.1.tar.gz /Library/Frameworks/R.framework/Resources/bin/R TFutils.buildbin-libdir StartedAt: 2025-10-20 03:38:07 -0400 (Mon, 20 Oct 2025) EndedAt: 2025-10-20 03:39:29 -0400 (Mon, 20 Oct 2025) EllapsedTime: 81.9 seconds RetCode: 0 Status: OK PackageFile: TFutils_1.29.1.tgz PackageFileSize: 6.329 MiB