Package: TFEA.ChIP Version: 1.29.4 Command: /Library/Frameworks/R.framework/Resources/bin/R CMD INSTALL TFEA.ChIP StartedAt: 2025-10-23 15:21:12 -0400 (Thu, 23 Oct 2025) EndedAt: 2025-10-23 15:21:40 -0400 (Thu, 23 Oct 2025) EllapsedTime: 27.8 seconds RetCode: 0 Status: OK