Package: TFEA.ChIP Version: 1.29.4 Command: /Library/Frameworks/R.framework/Resources/bin/R CMD build --keep-empty-dirs --no-resave-data TFEA.ChIP StartedAt: 2025-10-23 18:02:09 -0400 (Thu, 23 Oct 2025) EndedAt: 2025-10-23 18:02:53 -0400 (Thu, 23 Oct 2025) EllapsedTime: 44.5 seconds RetCode: 0 Status: OK PackageFile: TFEA.ChIP_1.29.4.tar.gz PackageFileSize: 6.772 MiB