Package: TEQC Version: 4.31.1 Command: /home/biocbuild/R/R/bin/R CMD check --install=check:TEQC.install-out.txt --library=/home/biocbuild/R/R/site-library --no-vignettes --timings TEQC_4.31.1.tar.gz StartedAt: 2025-10-10 14:32:41 -0000 (Fri, 10 Oct 2025) EndedAt: 2025-10-10 14:35:28 -0000 (Fri, 10 Oct 2025) EllapsedTime: 167.3 seconds RetCode: 0 Status: WARNINGS CheckDir: TEQC.Rcheck Warnings: 1