Package: TEQC Version: 4.31.1 Command: /home/biocbuild/R/R/bin/R CMD build --keep-empty-dirs --no-resave-data TEQC StartedAt: 2025-10-07 03:29:02 -0000 (Tue, 07 Oct 2025) EndedAt: 2025-10-07 03:29:33 -0000 (Tue, 07 Oct 2025) EllapsedTime: 31.0 seconds RetCode: 0 Status: OK PackageFile: TEQC_4.31.1.tar.gz PackageFileSize: 633.4 KiB