Package: TEQC Version: 4.31.1 Command: /Library/Frameworks/R.framework/Resources/bin/R CMD build --keep-empty-dirs --no-resave-data TEQC StartedAt: 2025-09-30 19:05:59 -0400 (Tue, 30 Sep 2025) EndedAt: 2025-09-30 19:06:32 -0400 (Tue, 30 Sep 2025) EllapsedTime: 33.2 seconds RetCode: 0 Status: OK PackageFile: TEQC_4.31.1.tar.gz PackageFileSize: 641.7 KiB