Package: TEQC Version: 4.31.1 Command: rm -rf TEQC.buildbin-libdir && mkdir TEQC.buildbin-libdir && /Users/biocbuild/BBS/utils/build-universal.sh TEQC_4.31.1.tar.gz /Library/Frameworks/R.framework/Resources/bin/R TEQC.buildbin-libdir StartedAt: 2025-10-01 02:11:08 -0400 (Wed, 01 Oct 2025) EndedAt: 2025-10-01 02:11:31 -0400 (Wed, 01 Oct 2025) EllapsedTime: 22.2 seconds RetCode: 0 Status: OK PackageFile: TEQC_4.31.1.tgz PackageFileSize: 793 KiB