Package: TEQC Version: 4.31.1 Command: /Library/Frameworks/R.framework/Resources/bin/R CMD INSTALL TEQC StartedAt: 2025-10-03 15:10:50 -0400 (Fri, 03 Oct 2025) EndedAt: 2025-10-03 15:10:56 -0400 (Fri, 03 Oct 2025) EllapsedTime: 5.2 seconds RetCode: 0 Status: OK