Package: TEQC Version: 4.31.1 Command: rm -rf TEQC.buildbin-libdir && mkdir TEQC.buildbin-libdir && /Users/biocbuild/BBS/utils/build-universal.sh TEQC_4.31.1.tar.gz /Library/Frameworks/R.framework/Resources/bin/R TEQC.buildbin-libdir StartedAt: 2025-10-02 23:22:49 -0400 (Thu, 02 Oct 2025) EndedAt: 2025-10-02 23:22:55 -0400 (Thu, 02 Oct 2025) EllapsedTime: 6.1 seconds RetCode: 0 Status: OK PackageFile: TEQC_4.31.1.tgz PackageFileSize: 796.7 KiB