Package: TENxIO Version: 1.11.5 Command: F:\biocbuild\bbs-3.22-bioc\R\bin\R.exe CMD check --no-multiarch --install=check:TENxIO.install-out.txt --library=F:\biocbuild\bbs-3.22-bioc\R\library --no-vignettes --timings TENxIO_1.11.5.tar.gz StartedAt: 2025-08-15 08:42:44 -0400 (Fri, 15 Aug 2025) EndedAt: 2025-08-15 08:46:34 -0400 (Fri, 15 Aug 2025) EllapsedTime: 230.0 seconds RetCode: 0 Status: OK CheckDir: TENxIO.Rcheck Warnings: 0