Package: TENET Version: 1.1.90 Command: /home/biocbuild/R/R/bin/R CMD INSTALL TENET StartedAt: 2025-10-23 20:59:24 -0000 (Thu, 23 Oct 2025) EndedAt: 2025-10-23 21:00:11 -0000 (Thu, 23 Oct 2025) EllapsedTime: 46.7 seconds RetCode: 0 Status: OK