Package: TENET Version: 1.1.90 Command: /home/biocbuild/R/R/bin/R CMD check --install=check:TENET.install-out.txt --library=/home/biocbuild/R/R/site-library --no-vignettes --timings TENET_1.1.90.tar.gz StartedAt: 2025-10-17 14:24:04 -0000 (Fri, 17 Oct 2025) EndedAt: 2025-10-17 14:29:33 -0000 (Fri, 17 Oct 2025) EllapsedTime: 329.6 seconds RetCode: 1 Status: ERROR CheckDir: TENET.Rcheck Warnings: NA