Package: TENET Version: 1.1.90 Command: F:\biocbuild\bbs-3.22-bioc\R\bin\R.exe CMD INSTALL TENET StartedAt: 2025-08-14 16:29:05 -0400 (Thu, 14 Aug 2025) EndedAt: 2025-08-14 16:30:03 -0400 (Thu, 14 Aug 2025) EllapsedTime: 58.4 seconds RetCode: 0 Status: OK