Package: TENET Version: 1.1.90 Command: F:\biocbuild\bbs-3.22-bioc\R\bin\R.exe CMD check --no-multiarch --install=check:TENET.install-out.txt --library=F:\biocbuild\bbs-3.22-bioc\R\library --no-vignettes --timings TENET_1.1.90.tar.gz StartedAt: 2025-08-15 08:42:12 -0400 (Fri, 15 Aug 2025) EndedAt: 2025-08-15 08:47:06 -0400 (Fri, 15 Aug 2025) EllapsedTime: 293.6 seconds RetCode: 1 Status: ERROR CheckDir: TENET.Rcheck Warnings: NA