Package: TENET Version: 1.1.90 Command: /Library/Frameworks/R.framework/Resources/bin/R CMD check --install=check:TENET.install-out.txt --library=/Library/Frameworks/R.framework/Resources/library --no-vignettes --timings TENET_1.1.90.tar.gz StartedAt: 2025-10-23 00:39:47 -0400 (Thu, 23 Oct 2025) EndedAt: 2025-10-23 00:44:05 -0400 (Thu, 23 Oct 2025) EllapsedTime: 258.1 seconds RetCode: 1 Status: ERROR CheckDir: TENET.Rcheck Warnings: NA