Package: TENET Version: 1.1.90 Command: /Library/Frameworks/R.framework/Resources/bin/R CMD build --keep-empty-dirs --no-resave-data TENET StartedAt: 2025-10-22 18:57:04 -0400 (Wed, 22 Oct 2025) EndedAt: 2025-10-22 19:16:51 -0400 (Wed, 22 Oct 2025) EllapsedTime: 1187.3 seconds RetCode: 0 Status: OK PackageFile: TENET_1.1.90.tar.gz PackageFileSize: 1.944 MiB