Package: TENET Version: 1.1.90 Command: /Library/Frameworks/R.framework/Resources/bin/R CMD INSTALL TENET StartedAt: 2025-10-22 15:19:44 -0400 (Wed, 22 Oct 2025) EndedAt: 2025-10-22 15:19:59 -0400 (Wed, 22 Oct 2025) EllapsedTime: 15.0 seconds RetCode: 0 Status: OK