Package: TCseq Version: 1.33.0 Command: /Library/Frameworks/R.framework/Resources/bin/R CMD check --install=check:TCseq.install-out.txt --library=/Library/Frameworks/R.framework/Resources/library --no-vignettes --timings TCseq_1.33.0.tar.gz StartedAt: 2025-10-04 01:11:51 -0400 (Sat, 04 Oct 2025) EndedAt: 2025-10-04 01:16:10 -0400 (Sat, 04 Oct 2025) EllapsedTime: 258.3 seconds RetCode: 0 Status: WARNINGS CheckDir: TCseq.Rcheck Warnings: 2