Package: TCC Version: 1.49.1 Command: /home/biocbuild/R/R/bin/R CMD build --keep-empty-dirs --no-resave-data TCC StartedAt: 2025-10-17 05:08:23 -0000 (Fri, 17 Oct 2025) EndedAt: 2025-10-17 05:10:36 -0000 (Fri, 17 Oct 2025) EllapsedTime: 133.1 seconds RetCode: 0 Status: OK PackageFile: TCC_1.49.1.tar.gz PackageFileSize: 3.07 MiB