Package: TCC Version: 1.49.1 Command: /home/biocbuild/bbs-3.22-bioc/R/bin/R CMD INSTALL TCC StartedAt: 2025-10-19 15:22:38 -0400 (Sun, 19 Oct 2025) EndedAt: 2025-10-19 15:23:06 -0400 (Sun, 19 Oct 2025) EllapsedTime: 28.5 seconds RetCode: 0 Status: OK