Package: TCC Version: 1.49.1 Command: /home/biocbuild/bbs-3.22-bioc/R/bin/R CMD build --keep-empty-dirs --no-resave-data --md5 TCC StartedAt: 2025-10-19 20:26:35 -0400 (Sun, 19 Oct 2025) EndedAt: 2025-10-19 20:28:12 -0400 (Sun, 19 Oct 2025) EllapsedTime: 97.4 seconds RetCode: 0 Status: OK PackageFile: TCC_1.49.1.tar.gz PackageFileSize: 3.186 MiB