Package: TCC Version: 1.49.1 Command: /Library/Frameworks/R.framework/Resources/bin/R CMD check --install=check:TCC.install-out.txt --library=/Library/Frameworks/R.framework/Resources/library --no-vignettes --timings TCC_1.49.1.tar.gz StartedAt: 2025-10-20 02:13:35 -0400 (Mon, 20 Oct 2025) EndedAt: 2025-10-20 02:18:40 -0400 (Mon, 20 Oct 2025) EllapsedTime: 304.6 seconds RetCode: 0 Status: OK CheckDir: TCC.Rcheck Warnings: 0