Package: TCC Version: 1.49.1 Command: /Library/Frameworks/R.framework/Resources/bin/R CMD build --keep-empty-dirs --no-resave-data TCC StartedAt: 2025-10-19 19:48:57 -0400 (Sun, 19 Oct 2025) EndedAt: 2025-10-19 19:51:07 -0400 (Sun, 19 Oct 2025) EllapsedTime: 129.4 seconds RetCode: 0 Status: OK PackageFile: TCC_1.49.1.tar.gz PackageFileSize: 2.598 MiB