Package: TCC Version: 1.49.1 Command: rm -rf TCC.buildbin-libdir && mkdir TCC.buildbin-libdir && /Users/biocbuild/BBS/utils/build-universal.sh TCC_1.49.1.tar.gz /Library/Frameworks/R.framework/Resources/bin/R TCC.buildbin-libdir StartedAt: 2025-10-20 03:37:55 -0400 (Mon, 20 Oct 2025) EndedAt: 2025-10-20 03:38:41 -0400 (Mon, 20 Oct 2025) EllapsedTime: 46.0 seconds RetCode: 0 Status: OK PackageFile: TCC_1.49.1.tgz PackageFileSize: 2.944 MiB