Package: TBSignatureProfiler Version: 1.21.4 Command: /home/biocbuild/R/R/bin/R CMD build --keep-empty-dirs --no-resave-data TBSignatureProfiler StartedAt: 2025-10-10 04:41:16 -0000 (Fri, 10 Oct 2025) EndedAt: 2025-10-10 04:41:35 -0000 (Fri, 10 Oct 2025) EllapsedTime: 19.0 seconds RetCode: 0 Status: OK PackageFile: TBSignatureProfiler_1.21.4.tar.gz PackageFileSize: 2.92 MiB