Package: TBSignatureProfiler Version: 1.21.4 Command: /home/biocbuild/bbs-3.22-bioc/R/bin/R CMD INSTALL TBSignatureProfiler StartedAt: 2025-10-12 15:55:18 -0400 (Sun, 12 Oct 2025) EndedAt: 2025-10-12 15:55:21 -0400 (Sun, 12 Oct 2025) EllapsedTime: 3.1 seconds RetCode: 0 Status: OK