Package: TBSignatureProfiler Version: 1.21.4 Command: /home/biocbuild/bbs-3.22-bioc/R/bin/R CMD check --install=check:TBSignatureProfiler.install-out.txt --library=/home/biocbuild/bbs-3.22-bioc/R/site-library --timings TBSignatureProfiler_1.21.4.tar.gz StartedAt: 2025-10-13 04:57:21 -0400 (Mon, 13 Oct 2025) EndedAt: 2025-10-13 04:59:57 -0400 (Mon, 13 Oct 2025) EllapsedTime: 156.3 seconds RetCode: 0 Status: OK CheckDir: TBSignatureProfiler.Rcheck Warnings: 0