Package: TBSignatureProfiler Version: 1.22.0 Command: /Library/Frameworks/R.framework/Resources/bin/R CMD check --install=check:TBSignatureProfiler.install-out.txt --library=/Library/Frameworks/R.framework/Resources/library --no-vignettes --timings TBSignatureProfiler_1.22.0.tar.gz StartedAt: 2025-11-04 00:46:30 -0500 (Tue, 04 Nov 2025) EndedAt: 2025-11-04 00:49:32 -0500 (Tue, 04 Nov 2025) EllapsedTime: 182.4 seconds RetCode: 0 Status: OK CheckDir: TBSignatureProfiler.Rcheck Warnings: 0