Package: TBSignatureProfiler Version: 1.21.4 Command: /Library/Frameworks/R.framework/Resources/bin/R CMD build --keep-empty-dirs --no-resave-data TBSignatureProfiler StartedAt: 2025-10-10 17:54:29 -0400 (Fri, 10 Oct 2025) EndedAt: 2025-10-10 17:54:36 -0400 (Fri, 10 Oct 2025) EllapsedTime: 7.1 seconds RetCode: 0 Status: OK PackageFile: TBSignatureProfiler_1.21.4.tar.gz PackageFileSize: 2.895 MiB