Package: TBSignatureProfiler Version: 1.21.4 Command: rm -rf TBSignatureProfiler.buildbin-libdir && mkdir TBSignatureProfiler.buildbin-libdir && /Users/biocbuild/BBS/utils/build-universal.sh TBSignatureProfiler_1.21.4.tar.gz /Library/Frameworks/R.framework/Resources/bin/R TBSignatureProfiler.buildbin-libdir StartedAt: 2025-10-10 23:00:06 -0400 (Fri, 10 Oct 2025) EndedAt: 2025-10-10 23:00:09 -0400 (Fri, 10 Oct 2025) EllapsedTime: 2.2 seconds RetCode: 0 Status: OK PackageFile: TBSignatureProfiler_1.21.4.tgz PackageFileSize: 3.348 MiB