Package: TADCompare Version: 1.19.0 Command: /home/biocbuild/R/R/bin/R CMD build --keep-empty-dirs --no-resave-data TADCompare StartedAt: 2025-10-03 03:44:27 -0000 (Fri, 03 Oct 2025) EndedAt: 2025-10-03 03:46:02 -0000 (Fri, 03 Oct 2025) EllapsedTime: 95.0 seconds RetCode: 0 Status: OK PackageFile: TADCompare_1.19.0.tar.gz PackageFileSize: 3.584 MiB