Package: TADCompare Version: 1.19.0 Command: /Library/Frameworks/R.framework/Resources/bin/R CMD check --install=check:TADCompare.install-out.txt --library=/Library/Frameworks/R.framework/Resources/library --no-vignettes --timings TADCompare_1.19.0.tar.gz StartedAt: 2025-10-20 22:24:44 -0400 (Mon, 20 Oct 2025) EndedAt: 2025-10-20 22:25:58 -0400 (Mon, 20 Oct 2025) EllapsedTime: 74.0 seconds RetCode: 0 Status: OK CheckDir: TADCompare.Rcheck Warnings: 0