Package: TADCompare Version: 1.19.0 Command: /Library/Frameworks/R.framework/Resources/bin/R CMD build --keep-empty-dirs --no-resave-data TADCompare StartedAt: 2025-10-20 17:54:37 -0400 (Mon, 20 Oct 2025) EndedAt: 2025-10-20 17:55:10 -0400 (Mon, 20 Oct 2025) EllapsedTime: 32.3 seconds RetCode: 0 Status: OK PackageFile: TADCompare_1.19.0.tar.gz PackageFileSize: 4.202 MiB