Package: SynMut Version: 1.25.0 Command: rm -rf SynMut.buildbin-libdir && mkdir SynMut.buildbin-libdir && F:\biocbuild\bbs-3.22-bioc\R\bin\R.exe CMD INSTALL --build --library=SynMut.buildbin-libdir SynMut_1.25.0.tar.gz StartedAt: 2025-08-15 11:27:42 -0400 (Fri, 15 Aug 2025) EndedAt: 2025-08-15 11:28:19 -0400 (Fri, 15 Aug 2025) EllapsedTime: 36.5 seconds RetCode: 0 Status: OK PackageFile: SynMut_1.25.0.zip PackageFileSize: 321.9 KiB