Package: SynMut Version: 1.25.0 Command: /home/biocbuild/bbs-3.22-bioc/R/bin/R CMD check --install=check:SynMut.install-out.txt --library=/home/biocbuild/bbs-3.22-bioc/R/site-library --timings SynMut_1.25.0.tar.gz StartedAt: 2025-10-21 05:26:42 -0400 (Tue, 21 Oct 2025) EndedAt: 2025-10-21 05:28:04 -0400 (Tue, 21 Oct 2025) EllapsedTime: 82.1 seconds RetCode: 0 Status: OK CheckDir: SynMut.Rcheck Warnings: 0