Package: SynMut Version: 1.25.0 Command: /Library/Frameworks/R.framework/Resources/bin/R CMD INSTALL SynMut StartedAt: 2025-10-22 15:18:27 -0400 (Wed, 22 Oct 2025) EndedAt: 2025-10-22 15:18:45 -0400 (Wed, 22 Oct 2025) EllapsedTime: 17.4 seconds RetCode: 0 Status: OK