Package: SynMut Version: 1.25.0 Command: /Library/Frameworks/R.framework/Resources/bin/R CMD check --install=check:SynMut.install-out.txt --library=/Library/Frameworks/R.framework/Resources/library --no-vignettes --timings SynMut_1.25.0.tar.gz StartedAt: 2025-10-20 22:24:20 -0400 (Mon, 20 Oct 2025) EndedAt: 2025-10-20 22:24:55 -0400 (Mon, 20 Oct 2025) EllapsedTime: 34.5 seconds RetCode: 0 Status: OK CheckDir: SynMut.Rcheck Warnings: 0