Package: SynMut Version: 1.25.0 Maintainer: Haogao Gu MaintainerEmail: hggu at connect.hku.hk git_url: https://git.bioconductor.org/packages/SynMut git_branch: devel git_last_commit: e8a012f git_last_commit_date: 2025-05-19 22:18:26 -0400 (Mon, 19 May 2025)