Package: SynExtend Version: 1.21.1 Command: F:\biocbuild\bbs-3.22-bioc\R\bin\R.exe CMD check --no-multiarch --install=check:SynExtend.install-out.txt --library=F:\biocbuild\bbs-3.22-bioc\R\library --no-vignettes --timings SynExtend_1.21.1.tar.gz StartedAt: 2025-08-15 08:37:55 -0400 (Fri, 15 Aug 2025) EndedAt: 2025-08-15 08:50:06 -0400 (Fri, 15 Aug 2025) EllapsedTime: 731.0 seconds RetCode: 0 Status: OK CheckDir: SynExtend.Rcheck Warnings: 0