############################################################################## ############################################################################## ### ### Running command: ### ### /home/biocbuild/bbs-3.22-bioc/R/bin/R CMD check --install=check:SynExtend.install-out.txt --library=/home/biocbuild/bbs-3.22-bioc/R/site-library --timings SynExtend_1.21.2.tar.gz ### ############################################################################## ############################################################################## * using log directory ‘/home/biocbuild/bbs-3.22-bioc/meat/SynExtend.Rcheck’ * using R version 4.5.1 Patched (2025-08-23 r88802) * using platform: x86_64-pc-linux-gnu * R was compiled by gcc (Ubuntu 13.3.0-6ubuntu2~24.04) 13.3.0 GNU Fortran (Ubuntu 13.3.0-6ubuntu2~24.04) 13.3.0 * running under: Ubuntu 24.04.3 LTS * using session charset: UTF-8 * checking for file ‘SynExtend/DESCRIPTION’ ... OK * checking extension type ... Package * this is package ‘SynExtend’ version ‘1.21.2’ * package encoding: UTF-8 * checking package namespace information ... OK * checking package dependencies ... OK * checking if this is a source package ... OK * checking if there is a namespace ... OK * checking for hidden files and directories ... OK * checking for portable file names ... OK * checking for sufficient/correct file permissions ... OK * checking whether package ‘SynExtend’ can be installed ... OK * used C compiler: ‘gcc (Ubuntu 13.3.0-6ubuntu2~24.04) 13.3.0’ * used Fortran compiler: ‘GNU Fortran (Ubuntu 13.3.0-6ubuntu2~24.04) 13.3.0’ * checking installed package size ... OK * checking package directory ... OK * checking ‘build’ directory ... OK * checking DESCRIPTION meta-information ... OK * checking top-level files ... OK * checking for left-over files ... OK * checking index information ... OK * checking package subdirectories ... OK * checking code files for non-ASCII characters ... OK * checking R files for syntax errors ... OK * checking whether the package can be loaded ... OK * checking whether the package can be loaded with stated dependencies ... OK * checking whether the package can be unloaded cleanly ... OK * checking whether the namespace can be loaded with stated dependencies ... OK * checking whether the namespace can be unloaded cleanly ... OK * checking loading without being on the library search path ... OK * checking dependencies in R code ... NOTE Missing object imported by a ':::' call: ‘DECIPHER:::.detectCores’ Unexported objects imported by ':::' calls: ‘DECIPHER:::.getSubMatrix’ ‘DECIPHER:::.nucleotideSubstitutionMatrix’ See the note in ?`:::` about the use of this operator. * checking S3 generic/method consistency ... OK * checking replacement functions ... OK * checking foreign function calls ... OK * checking R code for possible problems ... OK * checking Rd files ... OK * checking Rd metadata ... OK * checking Rd cross-references ... NOTE Found the following Rd file(s) with Rd \link{} targets missing package anchors: AAHitScoping.Rd: SearchIndex ApproximateBackground.Rd: translate, FindSynteny BlockByRank.Rd: FindSynteny BlockExpansion.Rd: FindSynteny BlockReconciliation.Rd: FindSynteny, Synteny-class CheckAgainstReport.Rd: readDNAStringSet ClusterByK.Rd: FindSynteny CompetePairs.Rd: FindSynteny DisjointSet.Rd: FindSynteny, Synteny-class EstimRearrScen.Rd: Synteny-class, FindSynteny ExpandDiagonal.Rd: AlignPairs, FindSynteny ExtractBy.Rd: FindSynteny, Synteny-class HitConsensus.Rd: FindSynteny NucleotideOverlap.Rd: FindSynteny, Synteny-class PairSummaries.Rd: FindSynteny, Synteny-class PrepareSeqs.Rd: FindSynteny SelectByK.Rd: FindSynteny SequenceSimilarity.Rd: AlignSeqs, AlignProfiles, AlignTranslation, DistanceMatrix SummarizePairs.Rd: AlignPairs, getGeneticCode, IndexSeqs, SearchIndex, FindSynteny SuperTree.Rd: Treeline Please provide package anchors for all Rd \link{} targets not in the package itself and the base packages. * checking for missing documentation entries ... OK * checking for code/documentation mismatches ... OK * checking Rd \usage sections ... OK * checking Rd contents ... OK * checking for unstated dependencies in examples ... OK * checking contents of ‘data’ directory ... OK * checking data for non-ASCII characters ... OK * checking data for ASCII and uncompressed saves ... OK * checking line endings in shell scripts ... OK * checking line endings in C/C++/Fortran sources/headers ... OK * checking line endings in Makefiles ... OK * checking compilation flags in Makevars ... OK * checking for GNU extensions in Makefiles ... OK * checking for portable use of $(BLAS_LIBS) and $(LAPACK_LIBS) ... OK * checking use of PKG_*FLAGS in Makefiles ... OK * checking compiled code ... NOTE Note: information on .o files is not available * checking usage of KIND in Fortran files ... OK * checking files in ‘vignettes’ ... OK * checking examples ... OK Examples with CPU (user + system) or elapsed time > 5s user system elapsed SummarizePairs 58.976 0.177 59.682 BlockExpansion 54.010 0.781 54.795 ExpandDiagonal 33.189 0.269 33.461 SelectByK 29.718 0.294 30.013 SuperTree 29.117 0.119 29.238 predict.EvoWeaver 7.632 0.019 7.652 gffToDataFrame 7.404 0.043 7.447 * checking for unstated dependencies in ‘tests’ ... OK * checking tests ... Running ‘test_ExoLabel.R’ OK * checking for unstated dependencies in vignettes ... OK * checking package vignettes ... OK * checking re-building of vignette outputs ... OK * checking PDF version of manual ... OK * DONE Status: 3 NOTEs See ‘/home/biocbuild/bbs-3.22-bioc/meat/SynExtend.Rcheck/00check.log’ for details.