Package: SynExtend Version: 1.21.2 Command: /Library/Frameworks/R.framework/Resources/bin/R CMD INSTALL SynExtend StartedAt: 2025-10-20 15:30:07 -0400 (Mon, 20 Oct 2025) EndedAt: 2025-10-20 15:30:55 -0400 (Mon, 20 Oct 2025) EllapsedTime: 47.9 seconds RetCode: 0 Status: OK