Package: SynExtend Version: 1.21.2 Command: /Library/Frameworks/R.framework/Resources/bin/R CMD build --keep-empty-dirs --no-resave-data SynExtend StartedAt: 2025-10-19 19:47:29 -0400 (Sun, 19 Oct 2025) EndedAt: 2025-10-19 19:49:04 -0400 (Sun, 19 Oct 2025) EllapsedTime: 95.4 seconds RetCode: 0 Status: OK PackageFile: SynExtend_1.21.2.tar.gz PackageFileSize: 3.131 MiB