Package: SynExtend Version: 1.21.2 Command: /Library/Frameworks/R.framework/Resources/bin/R CMD INSTALL SynExtend StartedAt: 2025-10-21 15:11:08 -0400 (Tue, 21 Oct 2025) EndedAt: 2025-10-21 15:11:18 -0400 (Tue, 21 Oct 2025) EllapsedTime: 10.3 seconds RetCode: 0 Status: OK