Package: SynExtend Version: 1.21.2 Command: /Library/Frameworks/R.framework/Resources/bin/R CMD build --keep-empty-dirs --no-resave-data SynExtend StartedAt: 2025-10-21 17:57:22 -0400 (Tue, 21 Oct 2025) EndedAt: 2025-10-21 17:57:55 -0400 (Tue, 21 Oct 2025) EllapsedTime: 32.3 seconds RetCode: 0 Status: OK PackageFile: SynExtend_1.21.2.tar.gz PackageFileSize: 3.131 MiB